BEGIN:VCALENDAR
VERSION:2.0
PRODID:-//eventon.com NONSGML v1.0//EN
BEGIN:VEVENT
UID:69e72f25031ae
DTSTAMP:20260421T030245
DTSTART:20231221T180000Z
DTEND:20231221T200200Z
TZID:America/Chicago
LOCATION:
SUMMARY:Poetry N Chill
DESCRIPTION: Janguage Artz Presents: Rapides Foundation Building; 2nd Floor 1101 4th St. Alexandria\,  LA Thursday\,  December 21\,  2023 Time: 12:00 PM-2:00 PM Come play with words in a low stakes environment! Hot chocolate\,  comfy PJ&#8217;s\,  fun games & low stress. Contact Jerrica Jae Franklin at 318-703-1084 for more info. $7 participation[..]\nhttps://louisiana-arts.org/events/poetry-n-chill/
URL:https://louisiana-arts.org/events/poetry-n-chill/
END:VEVENT
END:VCALENDAR